BEGIN:VCALENDAR
VERSION:2.0
PRODID:-//CBHSF - ECPv5.16.4//NONSGML v1.0//EN
CALSCALE:GREGORIAN
METHOD:PUBLISH
X-WR-CALNAME:CBHSF
X-ORIGINAL-URL:https://cbhsaofrancisco.org.br
X-WR-CALDESC:Eventos para CBHSF
BEGIN:VTIMEZONE
TZID:America/Sao_Paulo
BEGIN:STANDARD
TZOFFSETFROM:-0200
TZOFFSETTO:-0300
TZNAME:-03
DTSTART:20190217T020000
END:STANDARD
END:VTIMEZONE
BEGIN:VEVENT
DTSTART;TZID=America/Sao_Paulo:20190516T080000
DTEND;TZID=America/Sao_Paulo:20190517T170000
DTSTAMP:20260424T025227
CREATED:20190416T191713Z
LAST-MODIFIED:20190416T191713Z
UID:56170-1557993600-1558112400@cbhsaofrancisco.org.br
SUMMARY:XXXVI Reunião Plenária Ordinária do CBHSF será realizada em Brasília
DESCRIPTION:Na ocasião\, ocorrerão também as XXI e XXII Reuniões Plenárias Extraordinárias. \n\nO Comitê da Bacia Hidrográfica do Rio São Francisco (CBHSF) realizará\, nos dias 16 e 17 de maio\, a sua XXXVI Reunião Plenária Ordinária\, e as XXI e XXII Reuniões Plenárias Extraordinárias. Na pauta\, assinatura dos termos de Cooperação entre o CBHSF e os CBHs Paraopeba e Entorno da Represa de Três Marias\, apresentação do Projeto de Saneamento de Lagoa da Prata (MG)\, da campanha “Eu viro carranca para defender o Velho Chico”\, e dos aplicativos de monitoramento de chuva e vazão (ANA) e do consumo de água (ADASA)\, entre outros.\nO encontro será realizado no Auditório do St. Paul Plaza Hotel\, localizado no Setor Hoteleiro Sul\, Quadra 02\, Bloco H – Asa Sul\, Brasília/DF.\nConfira a programação completa:\n\n  \nCOMPARTILHE:
URL:https://cbhsaofrancisco.org.br/evento/xxxvi-reuniao-plenaria-ordinaria-do-cbhsf-sera-realizada-em-brasilia/
ATTACH;FMTTYPE=:
END:VEVENT
END:VCALENDAR