BEGIN:VCALENDAR
VERSION:2.0
PRODID:-//CBHSF - ECPv5.16.4//NONSGML v1.0//EN
CALSCALE:GREGORIAN
METHOD:PUBLISH
X-WR-CALNAME:CBHSF
X-ORIGINAL-URL:https://cbhsaofrancisco.org.br
X-WR-CALDESC:Eventos para CBHSF
BEGIN:VTIMEZONE
TZID:America/Sao_Paulo
BEGIN:STANDARD
TZOFFSETFROM:-0200
TZOFFSETTO:-0300
TZNAME:-03
DTSTART:20190217T020000
END:STANDARD
END:VTIMEZONE
BEGIN:VEVENT
DTSTART;TZID=America/Sao_Paulo:20190327T160000
DTEND;TZID=America/Sao_Paulo:20190327T190000
DTSTAMP:20260424T205938
CREATED:20190320T114114Z
LAST-MODIFIED:20190320T114114Z
UID:55962-1553702400-1553713200@cbhsaofrancisco.org.br
SUMMARY:Solenidade de Entrega de elaboração do Plano Municipal de Saneamento Básico acontecerá em Bom Jesus da Lapa
DESCRIPTION:O Comitê da Bacia Hidrográfica do Rio São Francisco (CBHSF) e a Prefeitura do município de Bom Jesus da Lapa irão realizar Solenidade de Entrega de elaboração do Plano Municipal de Saneamento Básico (PMSB). \n\nO evento será no dia 27/03\, quarta-feira\, às 16h00\, na Câmara Municipal de Vereadores\, localizada na Av. Duque de Caxias\, 343.\nConfira o convite: \n \nCOMPARTILHE:
URL:https://cbhsaofrancisco.org.br/evento/solenidade-de-entrega-de-elaboracao-do-plano-municipal-de-saneamento-basico-acontecera-em-bom-jesus-da-lapa/
ATTACH;FMTTYPE=:
END:VEVENT
END:VCALENDAR