BEGIN:VCALENDAR
VERSION:2.0
PRODID:-//CBHSF - ECPv5.16.4//NONSGML v1.0//EN
CALSCALE:GREGORIAN
METHOD:PUBLISH
X-WR-CALNAME:CBHSF
X-ORIGINAL-URL:https://cbhsaofrancisco.org.br
X-WR-CALDESC:Eventos para CBHSF
BEGIN:VTIMEZONE
TZID:America/Sao_Paulo
BEGIN:STANDARD
TZOFFSETFROM:-0200
TZOFFSETTO:-0300
TZNAME:-03
DTSTART:20190217T020000
END:STANDARD
END:VTIMEZONE
BEGIN:VEVENT
DTSTART;TZID=America/Sao_Paulo:20190328T090000
DTEND;TZID=America/Sao_Paulo:20190329T163000
DTSTAMP:20260424T172059
CREATED:20190318T131737Z
LAST-MODIFIED:20190318T131737Z
UID:55926-1553763600-1553877000@cbhsaofrancisco.org.br
SUMMARY:Seminário vai discutir os impactos do rompimento da barragem da Vale para o Velho Chico
DESCRIPTION:  \n\nNos dias 28 e 29 de março\, será realizado\, em Recife (PE)\, o Seminário Pós-Brumadinho: Impactos para o Rio São Francisco. Organizado pela Fundação Joaquim Nabuco\, contará com mesas-redondas\, debates e apresentações dos mais renomados especialistas. \n\nAs inscrições podem ser feitas até o dia 25 de março\, pelo telefone: (81) 3073-6795\, das 9 às 16h. O evento será realizado no Cinema do Museu Fundaj Casa Forte\, na Av. Dezessete de Agosto\, 2187 – Recife (PE).\nA programação completa pode ser acessada em: http://www.suassuna.net.br/2019/03/blog-post.html \nCOMPARTILHE:
URL:https://cbhsaofrancisco.org.br/evento/seminario-vai-discutir-os-impactos-do-rompimento-da-barragem-da-vale-para-o-velho-chico/
ATTACH;FMTTYPE=:
END:VEVENT
END:VCALENDAR