BEGIN:VCALENDAR
VERSION:2.0
PRODID:-//CBHSF - ECPv5.16.4//NONSGML v1.0//EN
CALSCALE:GREGORIAN
METHOD:PUBLISH
X-WR-CALNAME:CBHSF
X-ORIGINAL-URL:https://cbhsaofrancisco.org.br
X-WR-CALDESC:Eventos para CBHSF
BEGIN:VTIMEZONE
TZID:America/Sao_Paulo
BEGIN:STANDARD
TZOFFSETFROM:-0200
TZOFFSETTO:-0300
TZNAME:-03
DTSTART:20190217T020000
END:STANDARD
END:VTIMEZONE
BEGIN:VEVENT
DTSTART;TZID=America/Sao_Paulo:20190703T083000
DTEND;TZID=America/Sao_Paulo:20190703T113000
DTSTAMP:20260423T134355
CREATED:20190701T114232Z
LAST-MODIFIED:20190701T114232Z
UID:59407-1562142600-1562153400@cbhsaofrancisco.org.br
SUMMARY:Seminário de Encerramento do Projeto de Recuperação Hidroambiental na Bacia do Rio Curituba acontecerá em Canindé de São Francisco (SE)
DESCRIPTION:O Comitê da Bacia Hidrográfica do Rio São Francisco (CBHSF)\, por meio da CCR Baixo São Francisco\, realizará Seminário de Encerramento do Projeto de Recuperação Hidroambiental na Bacia do Rio Curituba município de Canindé de São Francisco\, estado de Sergipe\, a ser realizado no dia 03 de julho de 2019\, às 08h30\, na Sede da Associação Comunitária do Povoado Curituba. \n\nConfira o convite:\n \nCOMPARTILHE:
URL:https://cbhsaofrancisco.org.br/evento/seminario-de-encerramento-do-projeto-de-recuperacao-hidroambiental-na-bacia-do-rio-curituba-acontecera-em-caninde-de-sao-francisco-se/
ATTACH;FMTTYPE=:
END:VEVENT
END:VCALENDAR