BEGIN:VCALENDAR
VERSION:2.0
PRODID:-//CBHSF - ECPv5.16.4//NONSGML v1.0//EN
CALSCALE:GREGORIAN
METHOD:PUBLISH
X-WR-CALNAME:CBHSF
X-ORIGINAL-URL:https://cbhsaofrancisco.org.br
X-WR-CALDESC:Eventos para CBHSF
BEGIN:VTIMEZONE
TZID:America/Sao_Paulo
BEGIN:STANDARD
TZOFFSETFROM:-0200
TZOFFSETTO:-0300
TZNAME:-03
DTSTART:20190217T020000
END:STANDARD
END:VTIMEZONE
BEGIN:VEVENT
DTSTART;TZID=America/Sao_Paulo:20190905T090000
DTEND;TZID=America/Sao_Paulo:20190905T120000
DTSTAMP:20260424T195142
CREATED:20190826T185318Z
LAST-MODIFIED:20190826T185435Z
UID:59925-1567674000-1567684800@cbhsaofrancisco.org.br
SUMMARY:Reunião de Apresentação da Proposta de Implantação do viveiro de mudas em Lapão (BA)
DESCRIPTION:COMPARTILHE:
URL:https://cbhsaofrancisco.org.br/evento/reuniao-de-apr-e-sentacao-da-proposta-de-implantacao-do-viveiro-de-mudas-em-lapao-ba/
ATTACH;FMTTYPE=image/jpeg:https://cbhsaofrancisco.org.br/wp-content/uploads/2019/08/Convite-Lapão-BA-4.jpg
END:VEVENT
END:VCALENDAR