BEGIN:VCALENDAR
VERSION:2.0
PRODID:-//CBHSF - ECPv5.16.4//NONSGML v1.0//EN
CALSCALE:GREGORIAN
METHOD:PUBLISH
X-WR-CALNAME:CBHSF
X-ORIGINAL-URL:https://cbhsaofrancisco.org.br
X-WR-CALDESC:Eventos para CBHSF
BEGIN:VTIMEZONE
TZID:America/Sao_Paulo
BEGIN:STANDARD
TZOFFSETFROM:-0300
TZOFFSETTO:-0300
TZNAME:-03
DTSTART:20220101T000000
END:STANDARD
END:VTIMEZONE
BEGIN:VEVENT
DTSTART;VALUE=DATE:20220112
DTEND;VALUE=DATE:20220114
DTSTAMP:20260419T232630
CREATED:20220104T175052Z
LAST-MODIFIED:20220104T175052Z
UID:68747-1641945600-1642118399@cbhsaofrancisco.org.br
SUMMARY:Oficinas setoriais do PMSB - Teotônio Vilela (AL)
DESCRIPTION:COMPARTILHE:
URL:https://cbhsaofrancisco.org.br/evento/oficinas-setoriais-do-pmsb-teotonio-vilela-al/
END:VEVENT
END:VCALENDAR