BEGIN:VCALENDAR
VERSION:2.0
PRODID:-//CBHSF - ECPv5.16.4//NONSGML v1.0//EN
CALSCALE:GREGORIAN
METHOD:PUBLISH
X-WR-CALNAME:CBHSF
X-ORIGINAL-URL:https://cbhsaofrancisco.org.br
X-WR-CALDESC:Eventos para CBHSF
BEGIN:VTIMEZONE
TZID:America/Sao_Paulo
BEGIN:STANDARD
TZOFFSETFROM:-0200
TZOFFSETTO:-0300
TZNAME:-03
DTSTART:20190217T020000
END:STANDARD
END:VTIMEZONE
BEGIN:VEVENT
DTSTART;TZID=America/Sao_Paulo:20190328T080000
DTEND;TZID=America/Sao_Paulo:20190329T170000
DTSTAMP:20260424T185940
CREATED:20190311T190145Z
LAST-MODIFIED:20190311T190145Z
UID:55897-1553760000-1553878800@cbhsaofrancisco.org.br
SUMMARY:Oficina de Planejamento do CBHSF acontecerá em Maceió (AL)
DESCRIPTION:  \n\nO Comitê da Bacia Hidrográfica do Rio São Francisco (CBHSF) irá realizar oficina de planejamento das ações do Comitê do período 2019-2020. O encontro serános dias 28 e 29 de maço de 2019\, em Maceió (AL). \n\nConfira o convite:\n \nCOMPARTILHE:
URL:https://cbhsaofrancisco.org.br/evento/oficina-de-planejamento-do-cbhsf-acontecera-em-maceio-al/
ATTACH;FMTTYPE=:
END:VEVENT
END:VCALENDAR