BEGIN:VCALENDAR
VERSION:2.0
PRODID:-//CBHSF - ECPv5.16.4//NONSGML v1.0//EN
CALSCALE:GREGORIAN
METHOD:PUBLISH
X-WR-CALNAME:CBHSF
X-ORIGINAL-URL:https://cbhsaofrancisco.org.br
X-WR-CALDESC:Eventos para CBHSF
BEGIN:VTIMEZONE
TZID:America/Sao_Paulo
BEGIN:STANDARD
TZOFFSETFROM:-0200
TZOFFSETTO:-0300
TZNAME:-03
DTSTART:20190217T020000
END:STANDARD
END:VTIMEZONE
BEGIN:VEVENT
DTSTART;TZID=America/Sao_Paulo:20190602T073000
DTEND;TZID=America/Sao_Paulo:20190603T170000
DTSTAMP:20260425T130554
CREATED:20190528T181311Z
LAST-MODIFIED:20190528T181311Z
UID:59400-1559460600-1559581200@cbhsaofrancisco.org.br
SUMMARY:Confira a programação da campanha Vire Carranca em Três Marias\, Minas Gerais
DESCRIPTION:COMPARTILHE:
URL:https://cbhsaofrancisco.org.br/evento/confira-a-programacao-da-campanha-vire-carranca-em-tres-marias-minas-gerais/
ATTACH;FMTTYPE=:
END:VEVENT
END:VCALENDAR