BEGIN:VCALENDAR
VERSION:2.0
PRODID:-//CBHSF - ECPv5.16.4//NONSGML v1.0//EN
CALSCALE:GREGORIAN
METHOD:PUBLISH
X-WR-CALNAME:CBHSF
X-ORIGINAL-URL:https://cbhsaofrancisco.org.br
X-WR-CALDESC:Eventos para CBHSF
BEGIN:VTIMEZONE
TZID:America/Sao_Paulo
BEGIN:STANDARD
TZOFFSETFROM:-0300
TZOFFSETTO:-0300
TZNAME:-03
DTSTART:20220101T000000
END:STANDARD
END:VTIMEZONE
BEGIN:VEVENT
DTSTART;TZID=America/Sao_Paulo:20220208T090000
DTEND;TZID=America/Sao_Paulo:20220208T120000
DTSTAMP:20260419T213743
CREATED:20220128T194053Z
LAST-MODIFIED:20220128T194053Z
UID:69322-1644310800-1644321600@cbhsaofrancisco.org.br
SUMMARY:Conferências Municipais do PMSB - Itabi (SE)
DESCRIPTION:COMPARTILHE:
URL:https://cbhsaofrancisco.org.br/evento/conferencias-municipais-do-pmsb-itabi-se/
END:VEVENT
END:VCALENDAR