BEGIN:VCALENDAR
VERSION:2.0
PRODID:-//CBHSF - ECPv5.16.4//NONSGML v1.0//EN
CALSCALE:GREGORIAN
METHOD:PUBLISH
X-WR-CALNAME:CBHSF
X-ORIGINAL-URL:https://cbhsaofrancisco.org.br
X-WR-CALDESC:Eventos para CBHSF
BEGIN:VTIMEZONE
TZID:America/Sao_Paulo
BEGIN:STANDARD
TZOFFSETFROM:-0200
TZOFFSETTO:-0300
TZNAME:-03
DTSTART:20190217T020000
END:STANDARD
END:VTIMEZONE
BEGIN:VEVENT
DTSTART;TZID=America/Sao_Paulo:20190411T080000
DTEND;TZID=America/Sao_Paulo:20190411T170000
DTSTAMP:20260424T102152
CREATED:20190403T234651Z
LAST-MODIFIED:20190403T234651Z
UID:56075-1554969600-1555002000@cbhsaofrancisco.org.br
SUMMARY:Audiência Pública sobre poluição no Rio São Francisco acontecerá em Paulo Afonso (BA)
DESCRIPTION:O Ministério Público da Bahia realizará Audiência Pública sobre possíveis danos ao Rio São Francisco e afluentes nos territórios da Bahia\, Alagoas\, Pernambuco e Sergipe.  \n\nVeja o convite.\n \nCOMPARTILHE:
URL:https://cbhsaofrancisco.org.br/evento/audiencia-publica-sobre-poluicao-no-rio-sao-francisco-acontecera-em-paulo-afonso-ba/
ATTACH;FMTTYPE=:
END:VEVENT
END:VCALENDAR