BEGIN:VCALENDAR
VERSION:2.0
PRODID:-//CBHSF - ECPv5.16.4//NONSGML v1.0//EN
CALSCALE:GREGORIAN
METHOD:PUBLISH
X-WR-CALNAME:CBHSF
X-ORIGINAL-URL:https://cbhsaofrancisco.org.br
X-WR-CALDESC:Eventos para CBHSF
BEGIN:VTIMEZONE
TZID:America/Sao_Paulo
BEGIN:STANDARD
TZOFFSETFROM:-0300
TZOFFSETTO:-0300
TZNAME:-03
DTSTART:20210101T000000
END:STANDARD
END:VTIMEZONE
BEGIN:VEVENT
DTSTART;TZID=America/Sao_Paulo:20210816T150000
DTEND;TZID=America/Sao_Paulo:20210816T170000
DTSTAMP:20260424T112238
CREATED:20210809T155916Z
LAST-MODIFIED:20210809T155916Z
UID:67083-1629126000-1629133200@cbhsaofrancisco.org.br
SUMMARY:2ª Audiência Pública do PMSB de Tacaratu (PE). Participe!
DESCRIPTION:COMPARTILHE:
URL:https://cbhsaofrancisco.org.br/evento/2a-audiencia-publica-do-pmsb-de-tacaratu-pe-participe/
END:VEVENT
END:VCALENDAR